BEGIN:VCALENDAR
VERSION:2.0
PRODID:-//Soroptimist International of Saratoga County - ECPv6.15.20//NONSGML v1.0//EN
CALSCALE:GREGORIAN
METHOD:PUBLISH
X-ORIGINAL-URL:https://soroptimistsaratoga.org
X-WR-CALDESC:Events for Soroptimist International of Saratoga County
REFRESH-INTERVAL;VALUE=DURATION:PT1H
X-Robots-Tag:noindex
X-PUBLISHED-TTL:PT1H
BEGIN:VTIMEZONE
TZID:America/New_York
BEGIN:DAYLIGHT
TZOFFSETFROM:-0500
TZOFFSETTO:-0400
TZNAME:EDT
DTSTART:20210314T070000
END:DAYLIGHT
BEGIN:STANDARD
TZOFFSETFROM:-0400
TZOFFSETTO:-0500
TZNAME:EST
DTSTART:20211107T060000
END:STANDARD
BEGIN:DAYLIGHT
TZOFFSETFROM:-0500
TZOFFSETTO:-0400
TZNAME:EDT
DTSTART:20220313T070000
END:DAYLIGHT
BEGIN:STANDARD
TZOFFSETFROM:-0400
TZOFFSETTO:-0500
TZNAME:EST
DTSTART:20221106T060000
END:STANDARD
BEGIN:DAYLIGHT
TZOFFSETFROM:-0500
TZOFFSETTO:-0400
TZNAME:EDT
DTSTART:20230312T070000
END:DAYLIGHT
BEGIN:STANDARD
TZOFFSETFROM:-0400
TZOFFSETTO:-0500
TZNAME:EST
DTSTART:20231105T060000
END:STANDARD
END:VTIMEZONE
BEGIN:VEVENT
DTSTART;TZID=America/New_York:20220609T190000
DTEND;TZID=America/New_York:20220609T200000
DTSTAMP:20260424T013111
CREATED:20220428T162535Z
LAST-MODIFIED:20220428T162712Z
UID:281-1654801200-1654804800@soroptimistsaratoga.org
SUMMARY:Secret Gardens Revealed
DESCRIPTION:Join us on this live Zoom program as the owners of three diverse gardens on this year’s tour share their photos\, philosophies\, and tips on how they plan and care for their outdoor sanctuaries. \nDate: Thursday\, June 9th\nTime: 7 – 8 pm\nLocation: Zoom\nTickets: Participation is free but registration is required to obtain the Zoom link. \nThe presentations will be hosted by the Saratoga Springs Public Library. Register here\, on the Saratoga Springs Public Library website.
URL:https://soroptimistsaratoga.org/event/secret-gardens-revealed/
LOCATION:NY
ATTACH;FMTTYPE=image/jpeg:https://soroptimistsaratoga.org/wp-content/uploads/2022/04/Secret-Garden-Tour-Fundraise.jpg
ORGANIZER;CN="Soroptimist International of Saratoga County":MAILTO:soroptimistsaratoga@gmail.com
END:VEVENT
END:VCALENDAR